BEGIN:VCALENDAR
VERSION:2.0
PRODID: -//Q4 Inc.//EN
METHOD:PUBLISH
BEGIN:VTIMEZONE
TZID:America/New_York
X-LIC-LOCATION:America/New_York
BEGIN:DAYLIGHT
TZOFFSETFROM:-0500
TZOFFSETTO:-0400
TZNAME:EDT
DTSTART:19700308T020000
RRULE:FREQ=YEARLY;BYMONTH=3;BYDAY=2SU
END:DAYLIGHT
BEGIN:STANDARD
TZOFFSETFROM:-0400
TZOFFSETTO:-0500
TZNAME:EST
DTSTART:19701101T020000
RRULE:FREQ=YEARLY;BYMONTH=11;BYDAY=1SU
END:STANDARD
END:VTIMEZONE
BEGIN:VEVENT
ORGANIZER:MAILTO:questions@onegas.com
DTSTART;TZID="America/New_York":20231204T130000
DTEND;TZID="America/New_York":20231204T140000
LOCATION:New York City
UID:faee291c-4c9f-4d05-b944-10c93e09ed20
DTSTAMP:20260422T120604
SUMMARY:Mizuho Power, Energy, & Infrastructure Conference
DESCRIPTION: View More Information: https://www.onegas.com/investors/events-and-presentations/event-details/2023/Mizuho-Power-Energy--Infrastructure-Conference-2023-Bpv7lVhtaY/default.aspx
URL;VALUE=URI:https://www.onegas.com/investors/events-and-presentations/event-details/2023/Mizuho-Power-Energy--Infrastructure-Conference-2023-Bpv7lVhtaY/default.aspx
PRIORITY:5
CLASS:PUBLIC
END:VEVENT
END:VCALENDAR
