BEGIN:VCALENDAR
VERSION:2.0
PRODID: -//Q4 Inc.//EN
METHOD:PUBLISH
BEGIN:VTIMEZONE
TZID:America/New_York
X-LIC-LOCATION:America/New_York
BEGIN:DAYLIGHT
TZOFFSETFROM:-0500
TZOFFSETTO:-0400
TZNAME:EDT
DTSTART:19700308T020000
RRULE:FREQ=YEARLY;BYMONTH=3;BYDAY=2SU
END:DAYLIGHT
BEGIN:STANDARD
TZOFFSETFROM:-0400
TZOFFSETTO:-0500
TZNAME:EST
DTSTART:19701101T020000
RRULE:FREQ=YEARLY;BYMONTH=11;BYDAY=1SU
END:STANDARD
END:VTIMEZONE
BEGIN:VEVENT
ORGANIZER:MAILTO:questions@onegas.com
DTSTART;TZID="America/New_York":20240523T100000
DTEND;TZID="America/New_York":20240523T110000
LOCATION:
UID:2829a39e-7d75-464e-a3bf-c3795c7325ce
DTSTAMP:20260422T081523
SUMMARY:Annual Shareholders Meeting (Virtual Only)
DESCRIPTION: View More Information: https://www.onegas.com/investors/events-and-presentations/event-details/2024/Annual-Shareholders-Meeting-Virtual-Only-2024-vD6a0I8fOt/default.aspx
URL;VALUE=URI:https://www.onegas.com/investors/events-and-presentations/event-details/2024/Annual-Shareholders-Meeting-Virtual-Only-2024-vD6a0I8fOt/default.aspx
PRIORITY:5
CLASS:PUBLIC
END:VEVENT
END:VCALENDAR
