BEGIN:VCALENDAR
VERSION:2.0
PRODID: -//Q4 Inc.//EN
METHOD:PUBLISH
BEGIN:VTIMEZONE
TZID:America/New_York
X-LIC-LOCATION:America/New_York
BEGIN:DAYLIGHT
TZOFFSETFROM:-0500
TZOFFSETTO:-0400
TZNAME:EDT
DTSTART:19700308T020000
RRULE:FREQ=YEARLY;BYMONTH=3;BYDAY=2SU
END:DAYLIGHT
BEGIN:STANDARD
TZOFFSETFROM:-0400
TZOFFSETTO:-0500
TZNAME:EST
DTSTART:19701101T020000
RRULE:FREQ=YEARLY;BYMONTH=11;BYDAY=1SU
END:STANDARD
END:VTIMEZONE
BEGIN:VEVENT
ORGANIZER:MAILTO:questions@onegas.com
DTSTART;TZID="America/New_York":20241211T080000
DTEND;TZID="America/New_York":20241211T090000
LOCATION:New York City
UID:35c9df1f-d966-489f-8213-efd5da22032e
DTSTAMP:20260422T150327
SUMMARY:Wells Fargo Midstream, Energy & Utilities Symposium
DESCRIPTION: View More Information: https://www.onegas.com/investors/events-and-presentations/event-details/2024/Wells-Fargo-Midstream-Energy--Utilities-Symposium-2024-hIXC-BVexL/default.aspx
URL;VALUE=URI:https://www.onegas.com/investors/events-and-presentations/event-details/2024/Wells-Fargo-Midstream-Energy--Utilities-Symposium-2024-hIXC-BVexL/default.aspx
PRIORITY:5
CLASS:PUBLIC
END:VEVENT
END:VCALENDAR
