BEGIN:VCALENDAR
VERSION:2.0
PRODID: -//Q4 Inc.//EN
METHOD:PUBLISH
BEGIN:VTIMEZONE
TZID:America/New_York
X-LIC-LOCATION:America/New_York
BEGIN:DAYLIGHT
TZOFFSETFROM:-0500
TZOFFSETTO:-0400
TZNAME:EDT
DTSTART:19700308T020000
RRULE:FREQ=YEARLY;BYMONTH=3;BYDAY=2SU
END:DAYLIGHT
BEGIN:STANDARD
TZOFFSETFROM:-0400
TZOFFSETTO:-0500
TZNAME:EST
DTSTART:19701101T020000
RRULE:FREQ=YEARLY;BYMONTH=11;BYDAY=1SU
END:STANDARD
END:VTIMEZONE
BEGIN:VEVENT
ORGANIZER:MAILTO:questions@onegas.com
DTSTART;TZID="America/New_York":20250616T080000
DTEND;TZID="America/New_York":20250616T090000
LOCATION:London and Zurich
UID:72d5b026-8183-4f67-824d-7996126426e4
DTSTAMP:20260422T094915
SUMMARY:American Gas Association and Jefferies Europe Mini-Forum
DESCRIPTION: View More Information: https://www.onegas.com/investors/events-and-presentations/event-details/2025/American-Gas-Association-and-Jefferies-Europe-Mini-Forum-2025-AxOW1A4Bf7/default.aspx
URL;VALUE=URI:https://www.onegas.com/investors/events-and-presentations/event-details/2025/American-Gas-Association-and-Jefferies-Europe-Mini-Forum-2025-AxOW1A4Bf7/default.aspx
PRIORITY:5
CLASS:PUBLIC
END:VEVENT
END:VCALENDAR
