BEGIN:VCALENDAR
VERSION:2.0
PRODID: -//Q4 Inc.//EN
METHOD:PUBLISH
BEGIN:VTIMEZONE
TZID:America/New_York
X-LIC-LOCATION:America/New_York
BEGIN:DAYLIGHT
TZOFFSETFROM:-0500
TZOFFSETTO:-0400
TZNAME:EDT
DTSTART:19700308T020000
RRULE:FREQ=YEARLY;BYMONTH=3;BYDAY=2SU
END:DAYLIGHT
BEGIN:STANDARD
TZOFFSETFROM:-0400
TZOFFSETTO:-0500
TZNAME:EST
DTSTART:19701101T020000
RRULE:FREQ=YEARLY;BYMONTH=11;BYDAY=1SU
END:STANDARD
END:VTIMEZONE
BEGIN:VEVENT
ORGANIZER:MAILTO:questions@onegas.com
DTSTART;TZID="America/New_York":20251202T080000
DTEND;TZID="America/New_York":20251202T090000
LOCATION:
UID:636b1bc0-ac96-47d4-b21d-3f92dbee505d
DTSTAMP:20260422T095016
SUMMARY:ONE Gas 2026 Financial Guidance Conference Call and Webcast
DESCRIPTION: View More Information: https://events.q4inc.com/attendee/912493278
URL;VALUE=URI:https://events.q4inc.com/attendee/912493278
PRIORITY:5
CLASS:PUBLIC
END:VEVENT
END:VCALENDAR
