BEGIN:VCALENDAR
VERSION:2.0
PRODID: -//Q4 Inc.//EN
METHOD:PUBLISH
BEGIN:VTIMEZONE
TZID:America/New_York
X-LIC-LOCATION:America/New_York
BEGIN:DAYLIGHT
TZOFFSETFROM:-0500
TZOFFSETTO:-0400
TZNAME:EDT
DTSTART:19700308T020000
RRULE:FREQ=YEARLY;BYMONTH=3;BYDAY=2SU
END:DAYLIGHT
BEGIN:STANDARD
TZOFFSETFROM:-0400
TZOFFSETTO:-0500
TZNAME:EST
DTSTART:19701101T020000
RRULE:FREQ=YEARLY;BYMONTH=11;BYDAY=1SU
END:STANDARD
END:VTIMEZONE
BEGIN:VEVENT
ORGANIZER:MAILTO:questions@onegas.com
DTSTART;TZID="America/New_York":20180226T080000
DTEND;TZID="America/New_York":20180226T090000
LOCATION:
UID:2da87296-254b-49e4-984e-93c32104825d
DTSTAMP:20260422T062012
SUMMARY:Morgan Stanley Utilities, Clean Tech and Midstream Energy Conference
DESCRIPTION: View More Information: https://www.onegas.com/investors/events-and-presentations/event-details/2018/Morgan-Stanley-Utilities-Clean-Tech-and-Midstream-Energy-Conference/default.aspx
URL;VALUE=URI:https://www.onegas.com/investors/events-and-presentations/event-details/2018/Morgan-Stanley-Utilities-Clean-Tech-and-Midstream-Energy-Conference/default.aspx
PRIORITY:5
CLASS:PUBLIC
END:VEVENT
END:VCALENDAR
