BEGIN:VCALENDAR
VERSION:2.0
PRODID: -//Q4 Inc.//EN
METHOD:PUBLISH
BEGIN:VTIMEZONE
TZID:America/New_York
X-LIC-LOCATION:America/New_York
BEGIN:DAYLIGHT
TZOFFSETFROM:-0500
TZOFFSETTO:-0400
TZNAME:EDT
DTSTART:19700308T020000
RRULE:FREQ=YEARLY;BYMONTH=3;BYDAY=2SU
END:DAYLIGHT
BEGIN:STANDARD
TZOFFSETFROM:-0400
TZOFFSETTO:-0500
TZNAME:EST
DTSTART:19701101T020000
RRULE:FREQ=YEARLY;BYMONTH=11;BYDAY=1SU
END:STANDARD
END:VTIMEZONE
BEGIN:VEVENT
ORGANIZER:MAILTO:questions@onegas.com
DTSTART;TZID="America/New_York":20170522T134500
DTEND;TZID="America/New_York":20170522T144500
LOCATION:
UID:1607d0a9-c9a8-4219-980b-8d0278d65656
DTSTAMP:20260422T061950
SUMMARY:American Gas Association Financial Forum
DESCRIPTION: View More Information: https://www.onegas.com/investors/events-and-presentations/event-details/2017/American-Gas-Association-Financial-Forum/default.aspx
URL;VALUE=URI:https://www.onegas.com/investors/events-and-presentations/event-details/2017/American-Gas-Association-Financial-Forum/default.aspx
PRIORITY:5
CLASS:PUBLIC
END:VEVENT
END:VCALENDAR
