BEGIN:VCALENDAR
VERSION:2.0
PRODID: -//Q4 Inc.//EN
METHOD:PUBLISH
BEGIN:VTIMEZONE
TZID:America/New_York
X-LIC-LOCATION:America/New_York
BEGIN:DAYLIGHT
TZOFFSETFROM:-0500
TZOFFSETTO:-0400
TZNAME:EDT
DTSTART:19700308T020000
RRULE:FREQ=YEARLY;BYMONTH=3;BYDAY=2SU
END:DAYLIGHT
BEGIN:STANDARD
TZOFFSETFROM:-0400
TZOFFSETTO:-0500
TZNAME:EST
DTSTART:19701101T020000
RRULE:FREQ=YEARLY;BYMONTH=11;BYDAY=1SU
END:STANDARD
END:VTIMEZONE
BEGIN:VEVENT
ORGANIZER:MAILTO:questions@onegas.com
DTSTART;TZID="America/New_York":20170228T080000
DTEND;TZID="America/New_York":20170301T080000
LOCATION:
UID:d238f234-130c-4484-932b-080f1eafbd14
DTSTAMP:20260422T080554
SUMMARY:ONE Gas to Participate in UBS Utilities and Natural Gas Conference
DESCRIPTION: View More Information: https://www.onegas.com/investors/events-and-presentations/event-details/2017/ONE-Gas-to-Participate-in-UBS-Utilities-and-Natural-Gas-Conference/default.aspx
URL;VALUE=URI:https://www.onegas.com/investors/events-and-presentations/event-details/2017/ONE-Gas-to-Participate-in-UBS-Utilities-and-Natural-Gas-Conference/default.aspx
PRIORITY:5
CLASS:PUBLIC
END:VEVENT
END:VCALENDAR
