BEGIN:VCALENDAR
VERSION:2.0
PRODID: -//Q4 Inc.//EN
METHOD:PUBLISH
BEGIN:VTIMEZONE
TZID:America/New_York
X-LIC-LOCATION:America/New_York
BEGIN:DAYLIGHT
TZOFFSETFROM:-0500
TZOFFSETTO:-0400
TZNAME:EDT
DTSTART:19700308T020000
RRULE:FREQ=YEARLY;BYMONTH=3;BYDAY=2SU
END:DAYLIGHT
BEGIN:STANDARD
TZOFFSETFROM:-0400
TZOFFSETTO:-0500
TZNAME:EST
DTSTART:19701101T020000
RRULE:FREQ=YEARLY;BYMONTH=11;BYDAY=1SU
END:STANDARD
END:VTIMEZONE
BEGIN:VEVENT
ORGANIZER:MAILTO:questions@onegas.com
DTSTART;TZID="America/New_York":20150730T110000
DTEND;TZID="America/New_York":20150730T120000
LOCATION:
UID:283e3020-70d6-4b6e-afea-f571bb391a5b
DTSTAMP:20260422T183614
SUMMARY:ONE Gas Second-quarter 2015 Earnings Conference Call and Webcast
DESCRIPTION: View More Information: https://www.onegas.com/investors/events-and-presentations/event-details/2015/ONE-Gas-Second-quarter-2015-Earnings-Conference-Call-and-Webcast/default.aspx
URL;VALUE=URI:https://www.onegas.com/investors/events-and-presentations/event-details/2015/ONE-Gas-Second-quarter-2015-Earnings-Conference-Call-and-Webcast/default.aspx
PRIORITY:5
CLASS:PUBLIC
END:VEVENT
END:VCALENDAR
