BEGIN:VCALENDAR
VERSION:2.0
PRODID: -//Q4 Inc.//EN
METHOD:PUBLISH
BEGIN:VTIMEZONE
TZID:America/New_York
X-LIC-LOCATION:America/New_York
BEGIN:DAYLIGHT
TZOFFSETFROM:-0500
TZOFFSETTO:-0400
TZNAME:EDT
DTSTART:19700308T020000
RRULE:FREQ=YEARLY;BYMONTH=3;BYDAY=2SU
END:DAYLIGHT
BEGIN:STANDARD
TZOFFSETFROM:-0400
TZOFFSETTO:-0500
TZNAME:EST
DTSTART:19701101T020000
RRULE:FREQ=YEARLY;BYMONTH=11;BYDAY=1SU
END:STANDARD
END:VTIMEZONE
BEGIN:VEVENT
ORGANIZER:MAILTO:questions@onegas.com
DTSTART;TZID="America/New_York":20150521T100000
DTEND;TZID="America/New_York":20150521T110000
LOCATION:
UID:7739c40e-3f05-4ca5-80cb-1db277fc5547
DTSTAMP:20260422T114146
SUMMARY:2015 ONE Gas Annual Meeting of Shareholders
DESCRIPTION: View More Information: https://www.onegas.com/investors/events-and-presentations/event-details/2015/2015-ONE-Gas-Annual-Meeting-of-Shareholders/default.aspx
URL;VALUE=URI:https://www.onegas.com/investors/events-and-presentations/event-details/2015/2015-ONE-Gas-Annual-Meeting-of-Shareholders/default.aspx
PRIORITY:5
CLASS:PUBLIC
END:VEVENT
END:VCALENDAR
