BEGIN:VCALENDAR
VERSION:2.0
PRODID: -//Q4 Inc.//EN
METHOD:PUBLISH
BEGIN:VTIMEZONE
TZID:America/New_York
X-LIC-LOCATION:America/New_York
BEGIN:DAYLIGHT
TZOFFSETFROM:-0500
TZOFFSETTO:-0400
TZNAME:EDT
DTSTART:19700308T020000
RRULE:FREQ=YEARLY;BYMONTH=3;BYDAY=2SU
END:DAYLIGHT
BEGIN:STANDARD
TZOFFSETFROM:-0400
TZOFFSETTO:-0500
TZNAME:EST
DTSTART:19701101T020000
RRULE:FREQ=YEARLY;BYMONTH=11;BYDAY=1SU
END:STANDARD
END:VTIMEZONE
BEGIN:VEVENT
ORGANIZER:MAILTO:questions@onegas.com
DTSTART;TZID="America/New_York":20200518T080000
DTEND;TZID="America/New_York":20200519T230000
LOCATION:
UID:bcf80768-380e-4442-be19-325f58ff165a
DTSTAMP:20260422T080656
SUMMARY:American Gas Association Virtual Financial Forum
DESCRIPTION: View More Information: https://www.onegas.com/investors/events-and-presentations/event-details/2020/American-Gas-Association-Virtual-Financial-Forum/default.aspx
URL;VALUE=URI:https://www.onegas.com/investors/events-and-presentations/event-details/2020/American-Gas-Association-Virtual-Financial-Forum/default.aspx
PRIORITY:5
CLASS:PUBLIC
END:VEVENT
END:VCALENDAR
