BEGIN:VCALENDAR
VERSION:2.0
PRODID: -//Q4 Inc.//EN
METHOD:PUBLISH
BEGIN:VTIMEZONE
TZID:America/New_York
X-LIC-LOCATION:America/New_York
BEGIN:DAYLIGHT
TZOFFSETFROM:-0500
TZOFFSETTO:-0400
TZNAME:EDT
DTSTART:19700308T020000
RRULE:FREQ=YEARLY;BYMONTH=3;BYDAY=2SU
END:DAYLIGHT
BEGIN:STANDARD
TZOFFSETFROM:-0400
TZOFFSETTO:-0500
TZNAME:EST
DTSTART:19701101T020000
RRULE:FREQ=YEARLY;BYMONTH=11;BYDAY=1SU
END:STANDARD
END:VTIMEZONE
BEGIN:VEVENT
ORGANIZER:MAILTO:questions@onegas.com
DTSTART;TZID="America/New_York":20210302T070000
DTEND;TZID="America/New_York":20210302T080000
LOCATION:
UID:70810555-ae1f-46b2-be47-fa5075e088ea
DTSTAMP:20260422T203359
SUMMARY:BofA Securities Power, Gas and Solar Leaders Conference
DESCRIPTION: View More Information: https://www.onegas.com/investors/events-and-presentations/event-details/2021/BofA-Securities-Power-Gas-and-Solar-Leaders-Conference/default.aspx
URL;VALUE=URI:https://www.onegas.com/investors/events-and-presentations/event-details/2021/BofA-Securities-Power-Gas-and-Solar-Leaders-Conference/default.aspx
PRIORITY:5
CLASS:PUBLIC
END:VEVENT
END:VCALENDAR
